BEGIN:VCALENDAR
VERSION:2.0
PRODID:-//Ocean City MD Property Management - ECPv5.12.3//NONSGML v1.0//EN
CALSCALE:GREGORIAN
METHOD:PUBLISH
X-WR-CALNAME:Ocean City MD Property Management
X-ORIGINAL-URL:https://ocmannproperties.com
X-WR-CALDESC:Events for Ocean City MD Property Management
BEGIN:VTIMEZONE
TZID:America/New_York
BEGIN:DAYLIGHT
TZOFFSETFROM:-0500
TZOFFSETTO:-0400
TZNAME:EDT
DTSTART:20170312T070000
END:DAYLIGHT
BEGIN:STANDARD
TZOFFSETFROM:-0400
TZOFFSETTO:-0500
TZNAME:EST
DTSTART:20171105T060000
END:STANDARD
END:VTIMEZONE
BEGIN:VEVENT
DTSTART;TZID=America/New_York:20170129T130000
DTEND;TZID=America/New_York:20170129T170000
DTSTAMP:20260425T194853
CREATED:20170129T213457Z
LAST-MODIFIED:20170129T213457Z
UID:2088700-1485694800-1485709200@ocmannproperties.com
SUMMARY:18th Anniversary Party at Greene Turtle West OC
DESCRIPTION:Celebrate 18 wonderful years with us!  Entertainment by DJ Wax\, complimentary hors d’ouvres\, beer pong\, cornhole\, Nina’s crazy games\, prizes and giveaways!
URL:https://ocmannproperties.com/event/18th-anniversary-party-at-greene-turtle-west-oc-2/
END:VEVENT
END:VCALENDAR