BEGIN:VCALENDAR
VERSION:2.0
PRODID:-//Ocean City MD Property Management - ECPv5.12.3//NONSGML v1.0//EN
CALSCALE:GREGORIAN
METHOD:PUBLISH
X-WR-CALNAME:Ocean City MD Property Management
X-ORIGINAL-URL:https://ocmannproperties.com
X-WR-CALDESC:Events for Ocean City MD Property Management
BEGIN:VTIMEZONE
TZID:America/New_York
BEGIN:DAYLIGHT
TZOFFSETFROM:-0500
TZOFFSETTO:-0400
TZNAME:EDT
DTSTART:20240310T070000
END:DAYLIGHT
BEGIN:STANDARD
TZOFFSETFROM:-0400
TZOFFSETTO:-0500
TZNAME:EST
DTSTART:20241103T060000
END:STANDARD
END:VTIMEZONE
BEGIN:VEVENT
DTSTART;TZID=America/New_York:20241129T140000
DTEND;TZID=America/New_York:20241129T180000
DTSTAMP:20260422T185331
CREATED:20241129T212312Z
LAST-MODIFIED:20241129T212312Z
UID:2100454-1732888800-1732903200@ocmannproperties.com
SUMMARY:$3\,000 Black Friday Slot Tournament
DESCRIPTION:For a swell start to the holidays\, play to win your share of $3\,000 CASH at Ocean Downs Casino! Swipe your Club Ocean card at the kiosk to receive one FREE ENTRY! Get an additional entry for every 100 points earned.\nPlay up to 10 times.
URL:https://ocmannproperties.com/event/3000-black-friday-slot-tournament-2/
END:VEVENT
END:VCALENDAR