BEGIN:VCALENDAR
VERSION:2.0
PRODID:-//Ocean City MD Property Management - ECPv5.12.3//NONSGML v1.0//EN
CALSCALE:GREGORIAN
METHOD:PUBLISH
X-WR-CALNAME:Ocean City MD Property Management
X-ORIGINAL-URL:https://ocmannproperties.com
X-WR-CALDESC:Events for Ocean City MD Property Management
BEGIN:VTIMEZONE
TZID:America/New_York
BEGIN:DAYLIGHT
TZOFFSETFROM:-0500
TZOFFSETTO:-0400
TZNAME:EDT
DTSTART:20230312T070000
END:DAYLIGHT
BEGIN:STANDARD
TZOFFSETFROM:-0400
TZOFFSETTO:-0500
TZNAME:EST
DTSTART:20231105T060000
END:STANDARD
END:VTIMEZONE
BEGIN:VEVENT
DTSTART;VALUE=DATE:20230401
DTEND;VALUE=DATE:20230402
DTSTAMP:20260424T140816
CREATED:20230401T210511Z
LAST-MODIFIED:20230401T210511Z
UID:2097911-1680307200-1680393599@ocmannproperties.com
SUMMARY:30th Anniversary Party
DESCRIPTION:Join Harborside Bar and Grill\, the home of the original free – squeezed orange crush to celebrate their 30th Anniversary with family and friends and Harborside Spirit ALL DAY!  \n \n 
URL:https://ocmannproperties.com/event/30th-anniversary-party-4/
END:VEVENT
END:VCALENDAR