BEGIN:VCALENDAR
VERSION:2.0
PRODID:-//Ocean City MD Property Management - ECPv5.12.3//NONSGML v1.0//EN
CALSCALE:GREGORIAN
METHOD:PUBLISH
X-WR-CALNAME:Ocean City MD Property Management
X-ORIGINAL-URL:https://ocmannproperties.com
X-WR-CALDESC:Events for Ocean City MD Property Management
BEGIN:VTIMEZONE
TZID:America/New_York
BEGIN:DAYLIGHT
TZOFFSETFROM:-0500
TZOFFSETTO:-0400
TZNAME:EDT
DTSTART:20170312T070000
END:DAYLIGHT
BEGIN:STANDARD
TZOFFSETFROM:-0400
TZOFFSETTO:-0500
TZNAME:EST
DTSTART:20171105T060000
END:STANDARD
END:VTIMEZONE
BEGIN:VEVENT
DTSTART;TZID=America/New_York:20170901T090000
DTEND;TZID=America/New_York:20170901T090000
DTSTAMP:20260425T065104
CREATED:20170901T205935Z
LAST-MODIFIED:20170901T205935Z
UID:2089301-1504256400-1504256400@ocmannproperties.com
SUMMARY:50% Off Admission for School Supplies Donation
DESCRIPTION:Bring in new\, unopened school supplies which will be donated to local area schools.  Each guest that brings in a school supply will receive 50% off admission.\n \nSchool supplies most needed:\nPencils\nEraser tops\nColored Pencils\nGlue Sticks\nCrayons\nPocket folders\nZipper pencil cases\nPencil boxes\nHighlighters\nPost-its\nTissues\nHand sanitizer\nEar buds\n3 ring binders\nDry erase markers
URL:https://ocmannproperties.com/event/50-off-admission-for-school-supplies-donation/
END:VEVENT
END:VCALENDAR