BEGIN:VCALENDAR
VERSION:2.0
PRODID:-//Ocean City MD Property Management - ECPv5.12.3//NONSGML v1.0//EN
CALSCALE:GREGORIAN
METHOD:PUBLISH
X-WR-CALNAME:Ocean City MD Property Management
X-ORIGINAL-URL:https://ocmannproperties.com
X-WR-CALDESC:Events for Ocean City MD Property Management
BEGIN:VTIMEZONE
TZID:America/New_York
BEGIN:DAYLIGHT
TZOFFSETFROM:-0500
TZOFFSETTO:-0400
TZNAME:EDT
DTSTART:20170312T070000
END:DAYLIGHT
BEGIN:STANDARD
TZOFFSETFROM:-0400
TZOFFSETTO:-0500
TZNAME:EST
DTSTART:20171105T060000
END:STANDARD
END:VTIMEZONE
BEGIN:VEVENT
DTSTART;TZID=America/New_York:20170217T100000
DTEND;TZID=America/New_York:20170217T160000
DTSTAMP:20260425T175513
CREATED:20170217T090850Z
LAST-MODIFIED:20170612T180327Z
UID:2088794-1487325600-1487347200@ocmannproperties.com
SUMMARY:Acrylic Painting Workshop For All Levels
DESCRIPTION:Get ready for two very exciting days! Acrylic Painting Workshop For All Levels will cover the different mediums\, paint brands\, brushes\, techniques\, color theory\, color mixing and color relationships.   At this workshop you will see demonstrations and will have time to paint.  Bring paint brushes\, water bucket and an easel.  16×20′ boards\, sandpaper and gesso will be provided. \n\nInstructor:\nDebra Howard\n\nRegistration:\n\nPlease register online or by calling 410-524-9433 \nFees: \n\n$160 for Art League Members\n$200 for Non – Members (plus $10 material fee paid directly to the class instructor)
URL:https://ocmannproperties.com/event/acrylic-painting-workshop-for-all-levels/
END:VEVENT
END:VCALENDAR