BEGIN:VCALENDAR
VERSION:2.0
PRODID:-//Ocean City MD Property Management - ECPv5.12.3//NONSGML v1.0//EN
CALSCALE:GREGORIAN
METHOD:PUBLISH
X-WR-CALNAME:Ocean City MD Property Management
X-ORIGINAL-URL:https://ocmannproperties.com
X-WR-CALDESC:Events for Ocean City MD Property Management
BEGIN:VTIMEZONE
TZID:America/New_York
BEGIN:DAYLIGHT
TZOFFSETFROM:-0500
TZOFFSETTO:-0400
TZNAME:EDT
DTSTART:20200308T070000
END:DAYLIGHT
BEGIN:STANDARD
TZOFFSETFROM:-0400
TZOFFSETTO:-0500
TZNAME:EST
DTSTART:20201101T060000
END:STANDARD
END:VTIMEZONE
BEGIN:VEVENT
DTSTART;VALUE=DATE:20200318
DTEND;VALUE=DATE:20200319
DTSTAMP:20260422T231211
CREATED:20200318T210100Z
LAST-MODIFIED:20200318T210100Z
UID:2094848-1584489600-1584575999@ocmannproperties.com
SUMMARY:Adult Dance Class: Jazz
DESCRIPTION:Ocean City Recreation and Parks offers several different levels of jazz dance classes for skill levels from beginner to advance. In our adult dance classes\, the techniques and steps you learn will build into a routine. You have the option of performing in the Springfest and Sunfest dance shows but are not required to perform. \n \nLocation: Northside Park Recreation Complex\n\nPrice:\n$44.00 Class Fee \n$34.00 Class Fee for Ocean City Residents\n$5.00 Drop-In Rate\n \nRecreation Supervisor: Anna Paterson\n——————————————\nBeginner: *200413A\nInstructor: Renee Wight\nWho: Adults with no to minor jazz experience\nDates: Wednesdays from 4:00pm – 4:45pm / February 12th – April 22nd\n \nIntermediate 1: *200413B\nInstructor: Renee Wight\nWho: Adults who are progressing from beginner level of jazz experience\nDates: Wednesdays from 5:30pm – 6:15pm / February 12th – April 22nd\nProgram Notes: We ask that students have jazz shoes\n \nIntermediate 2: *200413C\n\nInstructor: Renee Wight\nWho: Adults who are progressing from beginner level of jazz experience. Jazz 1 is recommended to be taken first\, but not required.\n\nDates: Wednesdays from 10:15am – 11:00am / February 12th – April 22nd\nProgram Notes: We ask that students have jazz shoes\n 
URL:https://ocmannproperties.com/event/adult-dance-class-jazz-12/
END:VEVENT
END:VCALENDAR