BEGIN:VCALENDAR
VERSION:2.0
PRODID:-//Ocean City MD Property Management - ECPv5.12.3//NONSGML v1.0//EN
CALSCALE:GREGORIAN
METHOD:PUBLISH
X-WR-CALNAME:Ocean City MD Property Management
X-ORIGINAL-URL:https://ocmannproperties.com
X-WR-CALDESC:Events for Ocean City MD Property Management
BEGIN:VTIMEZONE
TZID:America/New_York
BEGIN:DAYLIGHT
TZOFFSETFROM:-0500
TZOFFSETTO:-0400
TZNAME:EDT
DTSTART:20220313T070000
END:DAYLIGHT
BEGIN:STANDARD
TZOFFSETFROM:-0400
TZOFFSETTO:-0500
TZNAME:EST
DTSTART:20221106T060000
END:STANDARD
END:VTIMEZONE
BEGIN:VEVENT
DTSTART;TZID=America/New_York:20220714T100000
DTEND;TZID=America/New_York:20220714T103000
DTSTAMP:20260424T122028
CREATED:20220714T210632Z
LAST-MODIFIED:20220714T210632Z
UID:2097372-1657792800-1657794600@ocmannproperties.com
SUMMARY:All About Sharks
DESCRIPTION:Do you love sharks? Here’s your chance to learn all about them\, for free\, right in OC! Join the Ocean City Life Saving Station Museum at the Boardwalk Tram Station to discover and learn about the types of sharks that live off the coast of Ocean City. 
URL:https://ocmannproperties.com/event/all-about-sharks-22/
END:VEVENT
END:VCALENDAR