BEGIN:VCALENDAR
VERSION:2.0
PRODID:-//Ocean City MD Property Management - ECPv5.12.3//NONSGML v1.0//EN
CALSCALE:GREGORIAN
METHOD:PUBLISH
X-WR-CALNAME:Ocean City MD Property Management
X-ORIGINAL-URL:https://ocmannproperties.com
X-WR-CALDESC:Events for Ocean City MD Property Management
BEGIN:VTIMEZONE
TZID:America/New_York
BEGIN:DAYLIGHT
TZOFFSETFROM:-0500
TZOFFSETTO:-0400
TZNAME:EDT
DTSTART:20210314T070000
END:DAYLIGHT
BEGIN:STANDARD
TZOFFSETFROM:-0400
TZOFFSETTO:-0500
TZNAME:EST
DTSTART:20211107T060000
END:STANDARD
END:VTIMEZONE
BEGIN:VEVENT
DTSTART;TZID=America/New_York:20210729T100000
DTEND;TZID=America/New_York:20210729T110000
DTSTAMP:20260423T121558
CREATED:20210729T205822Z
LAST-MODIFIED:20210729T205822Z
UID:2096643-1627552800-1627556400@ocmannproperties.com
SUMMARY:All About Sharks - Free Summer Program
DESCRIPTION:Join the Ocean City Life Saving Station Museum every Thursday at the Boardwalk Train Station. On Thursday\, learn about sharks and discover what types of shark are found off the coast of Ocean City! This program is free and open to the public. 
URL:https://ocmannproperties.com/event/all-about-sharks-free-summer-program-6/
END:VEVENT
END:VCALENDAR