BEGIN:VCALENDAR
VERSION:2.0
PRODID:-//Ocean City MD Property Management - ECPv5.12.3//NONSGML v1.0//EN
CALSCALE:GREGORIAN
METHOD:PUBLISH
X-WR-CALNAME:Ocean City MD Property Management
X-ORIGINAL-URL:https://ocmannproperties.com
X-WR-CALDESC:Events for Ocean City MD Property Management
BEGIN:VTIMEZONE
TZID:America/New_York
BEGIN:DAYLIGHT
TZOFFSETFROM:-0500
TZOFFSETTO:-0400
TZNAME:EDT
DTSTART:20230312T070000
END:DAYLIGHT
BEGIN:STANDARD
TZOFFSETFROM:-0400
TZOFFSETTO:-0500
TZNAME:EST
DTSTART:20231105T060000
END:STANDARD
END:VTIMEZONE
BEGIN:VEVENT
DTSTART;TZID=America/New_York:20230422T120000
DTEND;TZID=America/New_York:20230422T160000
DTSTAMP:20260423T011329
CREATED:20230422T212547Z
LAST-MODIFIED:20230422T212547Z
UID:2097955-1682164800-1682179200@ocmannproperties.com
SUMMARY:Annual Fager's Island  Winter Wine Fest
DESCRIPTION:Join us on the afternoon of Saturday April 22\, 2023 or the annual Island Wine Fest – SPRING\n\nAdmission includes a variety of both Fager’s Island Wines and 10 additional wine selections\, an assortment of Grapes from all over the world! Craft Beers\, specially selected Hard Seltzers\, Oysters on the Half Shell\, and a dining mix of hot and cold seasonal dishes from our Fager’s Island Kitchen\, souvenir tasting glass.\n\nAges 21+\n\n$66 in advance.
URL:https://ocmannproperties.com/event/annual-fagers-island-winter-wine-fest-2/
END:VEVENT
END:VCALENDAR