BEGIN:VCALENDAR
VERSION:2.0
PRODID:-//Ocean City MD Property Management - ECPv5.12.3//NONSGML v1.0//EN
CALSCALE:GREGORIAN
METHOD:PUBLISH
X-WR-CALNAME:Ocean City MD Property Management
X-ORIGINAL-URL:https://ocmannproperties.com
X-WR-CALDESC:Events for Ocean City MD Property Management
BEGIN:VTIMEZONE
TZID:America/New_York
BEGIN:DAYLIGHT
TZOFFSETFROM:-0500
TZOFFSETTO:-0400
TZNAME:EDT
DTSTART:20170312T070000
END:DAYLIGHT
BEGIN:STANDARD
TZOFFSETFROM:-0400
TZOFFSETTO:-0500
TZNAME:EST
DTSTART:20171105T060000
END:STANDARD
END:VTIMEZONE
BEGIN:VEVENT
DTSTART;VALUE=DATE:20170616
DTEND;VALUE=DATE:20170617
DTSTAMP:20260425T102723
CREATED:20170616T090016Z
LAST-MODIFIED:20170616T090016Z
UID:2089144-1497571200-1497657599@ocmannproperties.com
SUMMARY:Annual MSSA Tuna-ment
DESCRIPTION:28th Annual MSSA Tuna-ment  \n \nRegistration: \nJune 15\, 6-8pm at All Tackle (Rt 50 & Golf Course Road- Royal Farms)\n \nWeigh-In: \nSunset Marina
URL:https://ocmannproperties.com/event/annual-mssa-tuna-ment/
END:VEVENT
END:VCALENDAR