BEGIN:VCALENDAR
VERSION:2.0
PRODID:-//Ocean City MD Property Management - ECPv5.12.3//NONSGML v1.0//EN
CALSCALE:GREGORIAN
METHOD:PUBLISH
X-WR-CALNAME:Ocean City MD Property Management
X-ORIGINAL-URL:https://ocmannproperties.com
X-WR-CALDESC:Events for Ocean City MD Property Management
BEGIN:VTIMEZONE
TZID:America/New_York
BEGIN:DAYLIGHT
TZOFFSETFROM:-0500
TZOFFSETTO:-0400
TZNAME:EDT
DTSTART:20200308T070000
END:DAYLIGHT
BEGIN:STANDARD
TZOFFSETFROM:-0400
TZOFFSETTO:-0500
TZNAME:EST
DTSTART:20201101T060000
END:STANDARD
END:VTIMEZONE
BEGIN:VEVENT
DTSTART;VALUE=DATE:20200816
DTEND;VALUE=DATE:20200817
DTSTAMP:20260422T183103
CREATED:20200816T090155Z
LAST-MODIFIED:20200816T090155Z
UID:2095157-1597536000-1597622399@ocmannproperties.com
SUMMARY:Artists Paint OC: A Plein Air Event
DESCRIPTION:Welcome to the Art League of Ocean City’s 2020 Plein\nAir Event! Artists will take to the boardwalk\, streets\, harbors\, bay and\nmarshes to participate. “En plein air” is a French expression that means “in\nthe open air\,” used to describe the art of painting outdoors. Plein air events\ntake place wherever the scenery is inspirational\, artists congregate to paint\nit\, and watchers gather to see the painters make art right before their eyes. \nArtists will paint the picturesque spots of the Ocean City area Wednesday through Saturday\, August 12-16. Then gather at the Arts Center on Saturday to hang your best work and offer it for sale from 5-8 p.m. at a free reception open to the public. The entries juried in will continue on display at the Arts Center through August 29.
URL:https://ocmannproperties.com/event/artists-paint-oc-a-plein-air-event-3/
END:VEVENT
END:VCALENDAR