BEGIN:VCALENDAR
VERSION:2.0
PRODID:-//Ocean City MD Property Management - ECPv5.12.3//NONSGML v1.0//EN
CALSCALE:GREGORIAN
METHOD:PUBLISH
X-WR-CALNAME:Ocean City MD Property Management
X-ORIGINAL-URL:https://ocmannproperties.com
X-WR-CALDESC:Events for Ocean City MD Property Management
BEGIN:VTIMEZONE
TZID:America/New_York
BEGIN:DAYLIGHT
TZOFFSETFROM:-0500
TZOFFSETTO:-0400
TZNAME:EDT
DTSTART:20210314T070000
END:DAYLIGHT
BEGIN:STANDARD
TZOFFSETFROM:-0400
TZOFFSETTO:-0500
TZNAME:EST
DTSTART:20211107T060000
END:STANDARD
END:VTIMEZONE
BEGIN:VEVENT
DTSTART;TZID=America/New_York:20210821T000000
DTEND;TZID=America/New_York:20210821T000000
DTSTAMP:20260420T165418
CREATED:20210821T085835Z
LAST-MODIFIED:20210821T085835Z
UID:2096693-1629504000-1629504000@ocmannproperties.com
SUMMARY:ArtX Art & Music Festival
DESCRIPTION:Express yourself at Ocean City’s newest and most exciting showcase of the arts!\n \nDiscover a variety of artists from around the country as well as local artists with work on display and to sell. Films from the OC Film Festival will be screened onsite. A variety of music will keep you entertained while you enjoy a selection of food trucks\, gourmet vendors\, beer and wine. Interactive and unique art activities will provide children an opportunity to create their own masterpiece. The Art League of Ocean City will provide registration for on-site workshops to further explore your talents. All of this and the beauty and fun that comes with a day in the park.\n \nDon’t miss this Xpressive and Xciting event.  ArtX has something for everyone.
URL:https://ocmannproperties.com/event/artx-art-music-festival/
END:VEVENT
END:VCALENDAR