BEGIN:VCALENDAR
VERSION:2.0
PRODID:-//Ocean City MD Property Management - ECPv5.12.3//NONSGML v1.0//EN
CALSCALE:GREGORIAN
METHOD:PUBLISH
X-WR-CALNAME:Ocean City MD Property Management
X-ORIGINAL-URL:https://ocmannproperties.com
X-WR-CALDESC:Events for Ocean City MD Property Management
BEGIN:VTIMEZONE
TZID:America/New_York
BEGIN:DAYLIGHT
TZOFFSETFROM:-0500
TZOFFSETTO:-0400
TZNAME:EDT
DTSTART:20190310T070000
END:DAYLIGHT
BEGIN:STANDARD
TZOFFSETFROM:-0400
TZOFFSETTO:-0500
TZNAME:EST
DTSTART:20191103T060000
END:STANDARD
END:VTIMEZONE
BEGIN:VEVENT
DTSTART;TZID=America/New_York:20191026T000000
DTEND;TZID=America/New_York:20191026T000000
DTSTAMP:20260423T075652
CREATED:20191026T085935Z
LAST-MODIFIED:20191026T085935Z
UID:2094542-1572048000-1572048000@ocmannproperties.com
SUMMARY:Autumn Home & Condo Expo and Art and Craft Fair
DESCRIPTION:Say hello to Autumn by attending The Autumn Home and Condo\nShow\, an event for homeowners in all stages of remodeling\, landscaping and decorating\ntheir homes.  \nAttendees will have the opportunity to view merchandise\, product\ndemonstrations\, interior displays and exterior displays.  \nGet advice from professionals and be inspired on how to\nenhance your home.  \n\nSaturday – 10am to 6pm\nSunday – 10am to 4pm \n\nAdmission:\nAdults: $6\nSeniors (55 & up) and Students: $5\nKids 13 & under and Military\, Police\, and Fire with ID: FREE
URL:https://ocmannproperties.com/event/autumn-home-condo-expo-and-art-and-craft-fair-3/
END:VEVENT
END:VCALENDAR