BEGIN:VCALENDAR
VERSION:2.0
PRODID:-//Ocean City MD Property Management - ECPv5.12.3//NONSGML v1.0//EN
CALSCALE:GREGORIAN
METHOD:PUBLISH
X-WR-CALNAME:Ocean City MD Property Management
X-ORIGINAL-URL:https://ocmannproperties.com
X-WR-CALDESC:Events for Ocean City MD Property Management
BEGIN:VTIMEZONE
TZID:America/New_York
BEGIN:DAYLIGHT
TZOFFSETFROM:-0500
TZOFFSETTO:-0400
TZNAME:EDT
DTSTART:20210314T070000
END:DAYLIGHT
BEGIN:STANDARD
TZOFFSETFROM:-0400
TZOFFSETTO:-0500
TZNAME:EST
DTSTART:20211107T060000
END:STANDARD
END:VTIMEZONE
BEGIN:VEVENT
DTSTART;VALUE=DATE:20210508
DTEND;VALUE=DATE:20210509
DTSTAMP:20260423T085551
CREATED:20210508T090010Z
LAST-MODIFIED:20210508T090010Z
UID:2096464-1620432000-1620518399@ocmannproperties.com
SUMMARY:Beachfest Volleyball Festival - Cancelled
DESCRIPTION:Head down the shore for our Beachfest volleyball tournament hosted at the Roland E. Powell Convention Center.\n \nThis tournament originated in Ocean City\, MD with 30 teams and has exploded in popularity over the past four years growing to 224 teams in 2019!! Expanding to Salisbury and Snow Hill to accommodate the popularity\, we try and keep our Ocean City roots in mind by allowing each team to play in Ocean City one of the two days. Having an AM and PM wave is one of the great accommodations we provide to allow each team to get their time in the All-American City!
URL:https://ocmannproperties.com/event/beachfest-volleyball-festival-cancelled-3/
END:VEVENT
END:VCALENDAR