BEGIN:VCALENDAR
VERSION:2.0
PRODID:-//Ocean City MD Property Management - ECPv5.12.3//NONSGML v1.0//EN
CALSCALE:GREGORIAN
METHOD:PUBLISH
X-WR-CALNAME:Ocean City MD Property Management
X-ORIGINAL-URL:https://ocmannproperties.com
X-WR-CALDESC:Events for Ocean City MD Property Management
BEGIN:VTIMEZONE
TZID:America/New_York
BEGIN:DAYLIGHT
TZOFFSETFROM:-0500
TZOFFSETTO:-0400
TZNAME:EDT
DTSTART:20210314T070000
END:DAYLIGHT
BEGIN:STANDARD
TZOFFSETFROM:-0400
TZOFFSETTO:-0500
TZNAME:EST
DTSTART:20211107T060000
END:STANDARD
END:VTIMEZONE
BEGIN:VEVENT
DTSTART;TZID=America/New_York:20210209T213000
DTEND;TZID=America/New_York:20210209T213000
DTSTAMP:20260422T073125
CREATED:20210209T090224Z
LAST-MODIFIED:20210209T090224Z
UID:2095768-1612906200-1612906200@ocmannproperties.com
SUMMARY:Beats by DJ Wax
DESCRIPTION:Hang out at the home of the original Pickle Shot this Tuesday night!  DJ Wax will be spinning your favorite dance music while the Bar serves drinks specials all night long. Hungry? No problem\, Pickles serves food until 1:00 am
URL:https://ocmannproperties.com/event/beats-by-dj-wax/
END:VEVENT
END:VCALENDAR