BEGIN:VCALENDAR
VERSION:2.0
PRODID:-//Ocean City MD Property Management - ECPv5.12.3//NONSGML v1.0//EN
CALSCALE:GREGORIAN
METHOD:PUBLISH
X-WR-CALNAME:Ocean City MD Property Management
X-ORIGINAL-URL:https://ocmannproperties.com
X-WR-CALDESC:Events for Ocean City MD Property Management
BEGIN:VTIMEZONE
TZID:America/New_York
BEGIN:DAYLIGHT
TZOFFSETFROM:-0500
TZOFFSETTO:-0400
TZNAME:EDT
DTSTART:20200308T070000
END:DAYLIGHT
BEGIN:STANDARD
TZOFFSETFROM:-0400
TZOFFSETTO:-0500
TZNAME:EST
DTSTART:20201101T060000
END:STANDARD
END:VTIMEZONE
BEGIN:VEVENT
DTSTART;TZID=America/New_York:20200322T093000
DTEND;TZID=America/New_York:20200322T123000
DTSTAMP:20260422T212935
CREATED:20200322T205826Z
LAST-MODIFIED:20200322T205826Z
UID:2094859-1584869400-1584880200@ocmannproperties.com
SUMMARY:Beginner to Intermediate Oil Painting Class with David Simpson
DESCRIPTION:Would you like to learn how to paint with Oil\, but don’t know where to start? Are you looking to further your oil painting ability? OR Are you looking to explore the grand possibilities of a new medium? Then this is the painting class for you! As a long time professional oil painter and fine art educator\, David holds a plentiful amount of experience in producing and teaching various styles of oil painting. Regardless of your amount of experience\, desired painting style\, or subject preference\, this class will assist in your growth as an oil painter and artist. \nAgainst common belief\, oil paint is the perfect medium for painting enthusiasts\, because it is more forgiving than other mediums. This allows artists to make substantial improvements throughout the painting process without having to start all over. \nUltimately\, this class will guide you step by step\, starting with the best materials for oil painting. Next\, in each lesson to connect class content knowledge to student painting application\, historical and contemporary masters will be featured. Along with color mixing\, the primary goal of instruction will address the importance of creating a sketch and dynamic compositions in paint. Finally\, instruction will cover the various layers of “building up” an oil painting to the end goal. \nCost $30 for members\, $38 for non-member per class.  \n  \n 
URL:https://ocmannproperties.com/event/beginner-to-intermediate-oil-painting-class-with-david-simpson-6/
END:VEVENT
END:VCALENDAR