BEGIN:VCALENDAR
VERSION:2.0
PRODID:-//Ocean City MD Property Management - ECPv5.12.3//NONSGML v1.0//EN
CALSCALE:GREGORIAN
METHOD:PUBLISH
X-WR-CALNAME:Ocean City MD Property Management
X-ORIGINAL-URL:https://ocmannproperties.com
X-WR-CALDESC:Events for Ocean City MD Property Management
BEGIN:VTIMEZONE
TZID:America/New_York
BEGIN:DAYLIGHT
TZOFFSETFROM:-0500
TZOFFSETTO:-0400
TZNAME:EDT
DTSTART:20210314T070000
END:DAYLIGHT
BEGIN:STANDARD
TZOFFSETFROM:-0400
TZOFFSETTO:-0500
TZNAME:EST
DTSTART:20211107T060000
END:STANDARD
END:VTIMEZONE
BEGIN:VEVENT
DTSTART;TZID=America/New_York:20210314T093000
DTEND;TZID=America/New_York:20210314T123000
DTSTAMP:20260423T051418
CREATED:20210314T205834Z
LAST-MODIFIED:20210314T205834Z
UID:2096352-1615714200-1615725000@ocmannproperties.com
SUMMARY:Beginner to Intermediate Oil Painting Class with David Simpson
DESCRIPTION:Are you looking to further your oil or acrylic painting ability? Then this is the painting class for you! As a long time\, professional painter and fine art educator\, David holds a plentiful amount of experience in producing and teaching various styles of painting. Regardless of your amount of experience\, desired painting style\, or subject preference\, this class will assist in your growth as a painter and an artist. This in person class will begin with an introduction and a brief Power Point. Ultimately\, this class will guide you step by step through the stages of developing a painting. The primary subject will be OC from across the bay. This subject will allow us to apply various types of geometric and organic brush marks while developing a painting of a familiar scene. Along with color mixing\, one goal of instruction will address the importance of creating a sketch and dynamic composition in paint. Given the time limit and the nature of the class\, we will primarily be working in “Alla Prima.” This term literally means working wet on wet. Finally\, instruction will cover the various layers of “building up” a painting to reach the end goal. Recommended canvas size should be around 9” x 12” up to 16” x 20.”  \n$30 for members/ $38 for non-members per class \nPlease register by 03-13-2021! \n \n \n  \n 
URL:https://ocmannproperties.com/event/beginner-to-intermediate-oil-painting-class-with-david-simpson-8/
END:VEVENT
END:VCALENDAR