BEGIN:VCALENDAR
VERSION:2.0
PRODID:-//Ocean City MD Property Management - ECPv5.12.3//NONSGML v1.0//EN
CALSCALE:GREGORIAN
METHOD:PUBLISH
X-WR-CALNAME:Ocean City MD Property Management
X-ORIGINAL-URL:https://ocmannproperties.com
X-WR-CALDESC:Events for Ocean City MD Property Management
BEGIN:VTIMEZONE
TZID:America/New_York
BEGIN:DAYLIGHT
TZOFFSETFROM:-0500
TZOFFSETTO:-0400
TZNAME:EDT
DTSTART:20190310T070000
END:DAYLIGHT
BEGIN:STANDARD
TZOFFSETFROM:-0400
TZOFFSETTO:-0500
TZNAME:EST
DTSTART:20191103T060000
END:STANDARD
END:VTIMEZONE
BEGIN:VEVENT
DTSTART;TZID=America/New_York:20190311T100000
DTEND;TZID=America/New_York:20190311T150000
DTSTAMP:20260423T183616
CREATED:20190311T090049Z
LAST-MODIFIED:20190311T090049Z
UID:2094084-1552298400-1552316400@ocmannproperties.com
SUMMARY:Beginners and Beyond Watercolor Workshop with Gerilyn Gaskill
DESCRIPTION:Join the Beginners and Beyond Watercolor Workshop with Gerilyn Gaskill happening at the Art League of Ocean City. Participants are asked to register by 3/10. New students may register anytime. The cost is $90 for members and $110 for non members.\n \n1. Daffodils in opaque pottery. Bring a set up or share with class. \n2. Paint a landscape of your choice. How to build a landscape. Concentrating on what the painter does first\, next and so on. Bring a reference photo. \n3. Clinic Day and Individual demos. \n \nRegistration is “first come\, first served basis.” 
URL:https://ocmannproperties.com/event/beginners-and-beyond-watercolor-workshop-with-gerilyn-gaskill/
END:VEVENT
END:VCALENDAR