BEGIN:VCALENDAR
VERSION:2.0
PRODID:-//Ocean City MD Property Management - ECPv5.12.3//NONSGML v1.0//EN
CALSCALE:GREGORIAN
METHOD:PUBLISH
X-WR-CALNAME:Ocean City MD Property Management
X-ORIGINAL-URL:https://ocmannproperties.com
X-WR-CALDESC:Events for Ocean City MD Property Management
BEGIN:VTIMEZONE
TZID:America/New_York
BEGIN:DAYLIGHT
TZOFFSETFROM:-0500
TZOFFSETTO:-0400
TZNAME:EDT
DTSTART:20250309T070000
END:DAYLIGHT
BEGIN:STANDARD
TZOFFSETFROM:-0400
TZOFFSETTO:-0500
TZNAME:EST
DTSTART:20251102T060000
END:STANDARD
END:VTIMEZONE
BEGIN:VEVENT
DTSTART;TZID=America/New_York:20250201T160000
DTEND;TZID=America/New_York:20250201T200000
DTSTAMP:20260421T061723
CREATED:20250201T092209Z
LAST-MODIFIED:20250201T092209Z
UID:2100590-1738425600-1738440000@ocmannproperties.com
SUMMARY:Bleech
DESCRIPTION:Talented band\, Bleech will be performing at Skye Bar in midtown Ocean City\, MD! This talented artist is ready to bring you classic Rock at it’s finest! Don’t miss Bleech when they make a stop in Ocean City. Make sure you come for Happy Hour at Skye Bar from 3-6pm! Raw bar Happy Hour specials include $1 oysters and 1 1/4lb. lobster for $26. Drink specials include $7.00 Smirnoff Crushes\, $5.50 Rails\, $1 Off Drafts\, and $6.00 House Wines.
URL:https://ocmannproperties.com/event/bleech-3/
END:VEVENT
END:VCALENDAR