BEGIN:VCALENDAR
VERSION:2.0
PRODID:-//Ocean City MD Property Management - ECPv5.12.3//NONSGML v1.0//EN
CALSCALE:GREGORIAN
METHOD:PUBLISH
X-WR-CALNAME:Ocean City MD Property Management
X-ORIGINAL-URL:https://ocmannproperties.com
X-WR-CALDESC:Events for Ocean City MD Property Management
BEGIN:VTIMEZONE
TZID:America/New_York
BEGIN:DAYLIGHT
TZOFFSETFROM:-0500
TZOFFSETTO:-0400
TZNAME:EDT
DTSTART:20190310T070000
END:DAYLIGHT
BEGIN:STANDARD
TZOFFSETFROM:-0400
TZOFFSETTO:-0500
TZNAME:EST
DTSTART:20191103T060000
END:STANDARD
END:VTIMEZONE
BEGIN:VEVENT
DTSTART;TZID=America/New_York:20190925T180000
DTEND;TZID=America/New_York:20190925T210000
DTSTAMP:20260423T094648
CREATED:20190925T090128Z
LAST-MODIFIED:20190925T090128Z
UID:2094476-1569434400-1569445200@ocmannproperties.com
SUMMARY:Blues on the Bay at Macky's
DESCRIPTION:Join us for\nan evening of jazz to benefit the Macky & Pam Stansell House. Tickets are\n$75 per person and include an open bar\, delicious hors d’oeuvres and live\nmusic.
URL:https://ocmannproperties.com/event/blues-on-the-bay-at-mackys/
END:VEVENT
END:VCALENDAR