BEGIN:VCALENDAR
VERSION:2.0
PRODID:-//Ocean City MD Property Management - ECPv5.12.3//NONSGML v1.0//EN
CALSCALE:GREGORIAN
METHOD:PUBLISH
X-WR-CALNAME:Ocean City MD Property Management
X-ORIGINAL-URL:https://ocmannproperties.com
X-WR-CALDESC:Events for Ocean City MD Property Management
BEGIN:VTIMEZONE
TZID:America/New_York
BEGIN:DAYLIGHT
TZOFFSETFROM:-0500
TZOFFSETTO:-0400
TZNAME:EDT
DTSTART:20200308T070000
END:DAYLIGHT
BEGIN:STANDARD
TZOFFSETFROM:-0400
TZOFFSETTO:-0500
TZNAME:EST
DTSTART:20201101T060000
END:STANDARD
END:VTIMEZONE
BEGIN:VEVENT
DTSTART;TZID=America/New_York:20200418T090000
DTEND;TZID=America/New_York:20200418T120000
DTSTAMP:20260422T212924
CREATED:20200418T205850Z
LAST-MODIFIED:20200418T205850Z
UID:2094915-1587200400-1587211200@ocmannproperties.com
SUMMARY:Boardwalkin' for Pets Walk-a-thon
DESCRIPTION:Worcester County Humane Society annual fun walk-a-thon on the Ocean City MD boardwalk!  \nAll proceeds benefit the Ocean City area’s no-kill pet shelter. Bring your pet for a fun day on the boards to help the animals or adopt a shelter dog for the day by making arrangements prior to the walk-a-thon. \nRegistration fee.  8:30 am – 12:00 pm;  Walk-a-thon is Rain or Shine! \nDon’t have a dog to walk?  “Adopt a shelter dog for the event.”  Make arrangements in advance by calling the Worcester County Humane Society at 410-213-0146 \nWalk-a-thon ScheduleRegistration: 8:30am \nWalk Begins: 9:00am – 12:00 pm \nContest: 10:45am \nEnter Contests for best trick\, best dressed\, smallest and largest dog and win prizes!  \n 
URL:https://ocmannproperties.com/event/boardwalkin-for-pets-walk-a-thon-2/
END:VEVENT
END:VCALENDAR