BEGIN:VCALENDAR
VERSION:2.0
PRODID:-//Ocean City MD Property Management - ECPv5.12.3//NONSGML v1.0//EN
CALSCALE:GREGORIAN
METHOD:PUBLISH
X-WR-CALNAME:Ocean City MD Property Management
X-ORIGINAL-URL:https://ocmannproperties.com
X-WR-CALDESC:Events for Ocean City MD Property Management
BEGIN:VTIMEZONE
TZID:America/New_York
BEGIN:DAYLIGHT
TZOFFSETFROM:-0500
TZOFFSETTO:-0400
TZNAME:EDT
DTSTART:20210314T070000
END:DAYLIGHT
BEGIN:STANDARD
TZOFFSETFROM:-0400
TZOFFSETTO:-0500
TZNAME:EST
DTSTART:20211107T060000
END:STANDARD
END:VTIMEZONE
BEGIN:VEVENT
DTSTART;TZID=America/New_York:20211106T090000
DTEND;TZID=America/New_York:20211106T120000
DTSTAMP:20260423T191459
CREATED:20211106T090407Z
LAST-MODIFIED:20211106T090407Z
UID:2096855-1636189200-1636200000@ocmannproperties.com
SUMMARY:Boardwalkin' for Pets Walk-A-Thon
DESCRIPTION:Worcester County Humane Society annual fun walk-a-thon on the Ocean City MD boardwalk!  \nAll proceeds benefit the Ocean City area’s no-kill pet shelter. Bring your pet for a fun day on the boards to help the animals or adopt a shelter dog for the day by making arrangements prior to the walk-a-thon. \nPlease check back for more details. \n 
URL:https://ocmannproperties.com/event/boardwalkin-for-pets-walk-a-thon-3/
END:VEVENT
END:VCALENDAR