BEGIN:VCALENDAR
VERSION:2.0
PRODID:-//Ocean City MD Property Management - ECPv5.12.3//NONSGML v1.0//EN
CALSCALE:GREGORIAN
METHOD:PUBLISH
X-WR-CALNAME:Ocean City MD Property Management
X-ORIGINAL-URL:https://ocmannproperties.com
X-WR-CALDESC:Events for Ocean City MD Property Management
BEGIN:VTIMEZONE
TZID:America/New_York
BEGIN:DAYLIGHT
TZOFFSETFROM:-0500
TZOFFSETTO:-0400
TZNAME:EDT
DTSTART:20170312T070000
END:DAYLIGHT
BEGIN:STANDARD
TZOFFSETFROM:-0400
TZOFFSETTO:-0500
TZNAME:EST
DTSTART:20171105T060000
END:STANDARD
END:VTIMEZONE
BEGIN:VEVENT
DTSTART;TZID=America/New_York:20170305T160000
DTEND;TZID=America/New_York:20170305T190000
DTSTAMP:20260425T160937
CREATED:20170305T210104Z
LAST-MODIFIED:20170305T210104Z
UID:2088854-1488729600-1488740400@ocmannproperties.com
SUMMARY:Bob Hughes - The One Man Band
DESCRIPTION:Bob Hughes plays country and oldies.  With years of musical experience\, Bob brings a quality performance.\n 
URL:https://ocmannproperties.com/event/bob-hughes-the-one-man-band-2/
END:VEVENT
END:VCALENDAR