BEGIN:VCALENDAR
VERSION:2.0
PRODID:-//Ocean City MD Property Management - ECPv5.12.3//NONSGML v1.0//EN
CALSCALE:GREGORIAN
METHOD:PUBLISH
X-WR-CALNAME:Ocean City MD Property Management
X-ORIGINAL-URL:https://ocmannproperties.com
X-WR-CALDESC:Events for Ocean City MD Property Management
BEGIN:VTIMEZONE
TZID:America/New_York
BEGIN:DAYLIGHT
TZOFFSETFROM:-0500
TZOFFSETTO:-0400
TZNAME:EDT
DTSTART:20210314T070000
END:DAYLIGHT
BEGIN:STANDARD
TZOFFSETFROM:-0400
TZOFFSETTO:-0500
TZNAME:EST
DTSTART:20211107T060000
END:STANDARD
END:VTIMEZONE
BEGIN:VEVENT
DTSTART;TZID=America/New_York:20210510T160000
DTEND;TZID=America/New_York:20210510T200000
DTSTAMP:20260423T085858
CREATED:20210510T085825Z
LAST-MODIFIED:20210510T085825Z
UID:2096468-1620662400-1620676800@ocmannproperties.com
SUMMARY:Bob Wilkinson and Joe Smooth
DESCRIPTION:Bob Wilkinson and Joe Smooth team up for a great musical endeavor at Coconuts Beach Bar and Grill.  Bob and Joe will be playing live on the outdoor patio while you enjoy the beachfront restaurant\, great specials and time with your family and friends. 
URL:https://ocmannproperties.com/event/bob-wilkinson-and-joe-smooth/
END:VEVENT
END:VCALENDAR