BEGIN:VCALENDAR
VERSION:2.0
PRODID:-//Ocean City MD Property Management - ECPv5.12.3//NONSGML v1.0//EN
CALSCALE:GREGORIAN
METHOD:PUBLISH
X-WR-CALNAME:Ocean City MD Property Management
X-ORIGINAL-URL:https://ocmannproperties.com
X-WR-CALDESC:Events for Ocean City MD Property Management
BEGIN:VTIMEZONE
TZID:America/New_York
BEGIN:DAYLIGHT
TZOFFSETFROM:-0500
TZOFFSETTO:-0400
TZNAME:EDT
DTSTART:20180311T070000
END:DAYLIGHT
BEGIN:STANDARD
TZOFFSETFROM:-0400
TZOFFSETTO:-0500
TZNAME:EST
DTSTART:20181104T060000
END:STANDARD
END:VTIMEZONE
BEGIN:VEVENT
DTSTART;TZID=America/New_York:20181202T090000
DTEND;TZID=America/New_York:20181202T120000
DTSTAMP:20260424T000252
CREATED:20181202T205826Z
LAST-MODIFIED:20181202T205826Z
UID:2093885-1543741200-1543752000@ocmannproperties.com
SUMMARY:Breakfast with Santa and Holiday Crafter Market
DESCRIPTION:Breakfast with Santa and Holiday Crafter and Vendor Fair  Event will be from 9 am to 12 pm Breakfast Buffet with Omelet Station and Waffle Bar!  \n \nAdults $13 Kids (3 – 10) $7\n \nCrafters and Vendors:\nCigar Purses and Redneck Jewelry \nLulaRoe\nBethany Sports Cards & Collectibles\n31 Bags & Gifts\nmary KayCBD oils\nYoung Living Essential Oils\nPaparazzi Jewely \nDecorated Glassware\nHome Sewn Gifts
URL:https://ocmannproperties.com/event/breakfast-with-santa-and-holiday-crafter-market-2/
END:VEVENT
END:VCALENDAR