BEGIN:VCALENDAR
VERSION:2.0
PRODID:-//Ocean City MD Property Management - ECPv5.12.3//NONSGML v1.0//EN
CALSCALE:GREGORIAN
METHOD:PUBLISH
X-WR-CALNAME:Ocean City MD Property Management
X-ORIGINAL-URL:https://ocmannproperties.com
X-WR-CALDESC:Events for Ocean City MD Property Management
BEGIN:VTIMEZONE
TZID:America/New_York
BEGIN:DAYLIGHT
TZOFFSETFROM:-0500
TZOFFSETTO:-0400
TZNAME:EDT
DTSTART:20190310T070000
END:DAYLIGHT
BEGIN:STANDARD
TZOFFSETFROM:-0400
TZOFFSETTO:-0500
TZNAME:EST
DTSTART:20191103T060000
END:STANDARD
END:VTIMEZONE
BEGIN:VEVENT
DTSTART;TZID=America/New_York:20190328T093000
DTEND;TZID=America/New_York:20190328T153000
DTSTAMP:20260423T183733
CREATED:20190328T090137Z
LAST-MODIFIED:20190328T090137Z
UID:2094118-1553765400-1553787000@ocmannproperties.com
SUMMARY:Business and Marketing for Artists with Annie Strack
DESCRIPTION:This group mentoring session is limited to serious artists who are not afraid of being successful. Learn how to improve your business and sell more art through positive interaction with potential and current customers. Topics include: social media\, writing\, business planning\, marketing\, gaining credentials\, customer relations and selling\, and other related topics. \n \nThe cost for this event is $75 for members and $95 for non-members.  
URL:https://ocmannproperties.com/event/business-and-marketing-for-artists-with-annie-strack/
END:VEVENT
END:VCALENDAR