BEGIN:VCALENDAR
VERSION:2.0
PRODID:-//Ocean City MD Property Management - ECPv5.12.3//NONSGML v1.0//EN
CALSCALE:GREGORIAN
METHOD:PUBLISH
X-WR-CALNAME:Ocean City MD Property Management
X-ORIGINAL-URL:https://ocmannproperties.com
X-WR-CALDESC:Events for Ocean City MD Property Management
BEGIN:VTIMEZONE
TZID:America/New_York
BEGIN:DAYLIGHT
TZOFFSETFROM:-0500
TZOFFSETTO:-0400
TZNAME:EDT
DTSTART:20180311T070000
END:DAYLIGHT
BEGIN:STANDARD
TZOFFSETFROM:-0400
TZOFFSETTO:-0500
TZNAME:EST
DTSTART:20181104T060000
END:STANDARD
END:VTIMEZONE
BEGIN:VEVENT
DTSTART;TZID=America/New_York:20180626T110000
DTEND;TZID=America/New_York:20180626T140000
DTSTAMP:20260424T103634
CREATED:20180626T085901Z
LAST-MODIFIED:20180626T085901Z
UID:2093488-1530010800-1530021600@ocmannproperties.com
SUMMARY:Callie Tomblin
DESCRIPTION:Self-taught Singer/Songwriter Callie Tomblin began playing guitar when she was 14 years old. She has been singing and writing her own music since she was a child and is able to perform songs from every genre. Her own original music is a mix of Folk Rock\, Blues and Country which has stemmed from many amazing influences that include Melissa Etheridge\, Stevie Nicks\, Kid Rock and Tom Petty.\n\n \n \n \n 
URL:https://ocmannproperties.com/event/callie-tomblin/
END:VEVENT
END:VCALENDAR