BEGIN:VCALENDAR
VERSION:2.0
PRODID:-//Ocean City MD Property Management - ECPv5.12.3//NONSGML v1.0//EN
CALSCALE:GREGORIAN
METHOD:PUBLISH
X-WR-CALNAME:Ocean City MD Property Management
X-ORIGINAL-URL:https://ocmannproperties.com
X-WR-CALDESC:Events for Ocean City MD Property Management
BEGIN:VTIMEZONE
TZID:America/New_York
BEGIN:DAYLIGHT
TZOFFSETFROM:-0500
TZOFFSETTO:-0400
TZNAME:EDT
DTSTART:20200308T070000
END:DAYLIGHT
BEGIN:STANDARD
TZOFFSETFROM:-0400
TZOFFSETTO:-0500
TZNAME:EST
DTSTART:20201101T060000
END:STANDARD
END:VTIMEZONE
BEGIN:VEVENT
DTSTART;TZID=America/New_York:20201205T120000
DTEND;TZID=America/New_York:20201205T170000
DTSTAMP:20260420T212716
CREATED:20201205T085936Z
LAST-MODIFIED:20201205T085936Z
UID:2095388-1607169600-1607187600@ocmannproperties.com
SUMMARY:Cheer and Dance Extreme - Postponed
DESCRIPTION:Head over to the Ocean City\, Maryland Convention Center for a friendly-competition of talented cheer and dance athletes. You don’t have to be a participant to enjoy this event!   The OC Open Championship will feature teams from over nine states and allow teams to showcase their best under the lights.
URL:https://ocmannproperties.com/event/cheer-and-dance-extreme-postponed/
END:VEVENT
END:VCALENDAR