BEGIN:VCALENDAR
VERSION:2.0
PRODID:-//Ocean City MD Property Management - ECPv5.12.3//NONSGML v1.0//EN
CALSCALE:GREGORIAN
METHOD:PUBLISH
X-WR-CALNAME:Ocean City MD Property Management
X-ORIGINAL-URL:https://ocmannproperties.com
X-WR-CALDESC:Events for Ocean City MD Property Management
BEGIN:VTIMEZONE
TZID:America/New_York
BEGIN:DAYLIGHT
TZOFFSETFROM:-0500
TZOFFSETTO:-0400
TZNAME:EDT
DTSTART:20200308T070000
END:DAYLIGHT
BEGIN:STANDARD
TZOFFSETFROM:-0400
TZOFFSETTO:-0500
TZNAME:EST
DTSTART:20201101T060000
END:STANDARD
END:VTIMEZONE
BEGIN:VEVENT
DTSTART;TZID=America/New_York:20200111T103000
DTEND;TZID=America/New_York:20200111T114500
DTSTAMP:20260423T010011
CREATED:20200111T205837Z
LAST-MODIFIED:20200111T205837Z
UID:2094704-1578738600-1578743100@ocmannproperties.com
SUMMARY:Children's Line Dancing
DESCRIPTION:Come one\, come all! Calling all children between the ages of 7-13 years old for our FIRST EVER Children’s Line Dancing Class! Come out and learn the simple\, modified line dances including; the Cotton Eye Joe\, Electric Slide\, Circle Dances & much more! Only requirement is to have shoes that stay on your feet & have your dancing feet ready! \n \nAges: 7-13\nWhere: Ocean Pines Community Center\nInstructor: Mary McCormick\nFee: OP Resident $40	Non-Resident $50\n \nTo register\, please call Ocean Pines Recreation & Parks at 410-641-7052 
URL:https://ocmannproperties.com/event/childrens-line-dancing-4/
END:VEVENT
END:VCALENDAR