BEGIN:VCALENDAR
VERSION:2.0
PRODID:-//Ocean City MD Property Management - ECPv5.12.3//NONSGML v1.0//EN
CALSCALE:GREGORIAN
METHOD:PUBLISH
X-WR-CALNAME:Ocean City MD Property Management
X-ORIGINAL-URL:https://ocmannproperties.com
X-WR-CALDESC:Events for Ocean City MD Property Management
BEGIN:VTIMEZONE
TZID:America/New_York
BEGIN:DAYLIGHT
TZOFFSETFROM:-0500
TZOFFSETTO:-0400
TZNAME:EDT
DTSTART:20180311T070000
END:DAYLIGHT
BEGIN:STANDARD
TZOFFSETFROM:-0400
TZOFFSETTO:-0500
TZNAME:EST
DTSTART:20181104T060000
END:STANDARD
END:VTIMEZONE
BEGIN:VEVENT
DTSTART;TZID=America/New_York:20180725T090000
DTEND;TZID=America/New_York:20180725T110000
DTSTAMP:20260424T121529
CREATED:20180725T090328Z
LAST-MODIFIED:20180725T090328Z
UID:2093569-1532509200-1532516400@ocmannproperties.com
SUMMARY:Christmas in July Breakfast with Santa
DESCRIPTION:Santa Claus is making an extra special trip to the Original Greene Turtle in Ocean City to help raise money for Believe In Tomorrow’s Children’s House by the Sea! \n \nEnjoy a breakfast buffet for only $10. Kids 12 and under eat FREE!! All kids get to visit with Santa which includes a gift and a keepsake photo.\n \n \n 
URL:https://ocmannproperties.com/event/christmas-in-july-breakfast-with-santa/
END:VEVENT
END:VCALENDAR