BEGIN:VCALENDAR
VERSION:2.0
PRODID:-//Ocean City MD Property Management - ECPv5.12.3//NONSGML v1.0//EN
CALSCALE:GREGORIAN
METHOD:PUBLISH
X-WR-CALNAME:Ocean City MD Property Management
X-ORIGINAL-URL:https://ocmannproperties.com
X-WR-CALDESC:Events for Ocean City MD Property Management
BEGIN:VTIMEZONE
TZID:America/New_York
BEGIN:DAYLIGHT
TZOFFSETFROM:-0500
TZOFFSETTO:-0400
TZNAME:EDT
DTSTART:20190310T070000
END:DAYLIGHT
BEGIN:STANDARD
TZOFFSETFROM:-0400
TZOFFSETTO:-0500
TZNAME:EST
DTSTART:20191103T060000
END:STANDARD
END:VTIMEZONE
BEGIN:VEVENT
DTSTART;TZID=America/New_York:20190312T100000
DTEND;TZID=America/New_York:20190312T110000
DTSTAMP:20260423T183821
CREATED:20190312T210004Z
LAST-MODIFIED:20190312T210004Z
UID:2094087-1552384800-1552388400@ocmannproperties.com
SUMMARY:Coffee and Conversation happens at the Worcester County Library Ocean Pines Branch
DESCRIPTION:If you are curious about the services the Worcester County Library provides\, check out the coffee and conversation event happening at the Ocean Pines Library. Attendees can learn how to use library resources including eBooks\, databases and the library catalog.
URL:https://ocmannproperties.com/event/coffee-and-conversation-happens-at-the-worcester-county-library-ocean-pines-branch-4/
END:VEVENT
END:VCALENDAR