BEGIN:VCALENDAR
VERSION:2.0
PRODID:-//Ocean City MD Property Management - ECPv5.12.3//NONSGML v1.0//EN
CALSCALE:GREGORIAN
METHOD:PUBLISH
X-WR-CALNAME:Ocean City MD Property Management
X-ORIGINAL-URL:https://ocmannproperties.com
X-WR-CALDESC:Events for Ocean City MD Property Management
BEGIN:VTIMEZONE
TZID:America/New_York
BEGIN:DAYLIGHT
TZOFFSETFROM:-0500
TZOFFSETTO:-0400
TZNAME:EDT
DTSTART:20170312T070000
END:DAYLIGHT
BEGIN:STANDARD
TZOFFSETFROM:-0400
TZOFFSETTO:-0500
TZNAME:EST
DTSTART:20171105T060000
END:STANDARD
END:VTIMEZONE
BEGIN:VEVENT
DTSTART;TZID=America/New_York:20170325T100000
DTEND;TZID=America/New_York:20170325T120000
DTSTAMP:20260425T160532
CREATED:20170325T210232Z
LAST-MODIFIED:20170325T210232Z
UID:2088948-1490436000-1490443200@ocmannproperties.com
SUMMARY:Cooking Class With Chef Travis Wright
DESCRIPTION:A morning of seasonally inspired culinary tips and creative kitchen brainstorming with Executive Chef Travis Wright. \n \nTickets are $25 each and include the following:\nClass admission for (1)\nOne complimentary craft eye opener cocktail\, chef’s choice\nThree (3) culinary samplings\nA fun morning celebrating culinary crafts\, community and good spirits\n \nLimited seats available\, all tickets final \nCall 410-213-1006 or stop into Culture
URL:https://ocmannproperties.com/event/cooking-class-with-chef-travis-wright-2/
END:VEVENT
END:VCALENDAR