BEGIN:VCALENDAR
VERSION:2.0
PRODID:-//Ocean City MD Property Management - ECPv5.12.3//NONSGML v1.0//EN
CALSCALE:GREGORIAN
METHOD:PUBLISH
X-WR-CALNAME:Ocean City MD Property Management
X-ORIGINAL-URL:https://ocmannproperties.com
X-WR-CALDESC:Events for Ocean City MD Property Management
BEGIN:VTIMEZONE
TZID:America/New_York
BEGIN:DAYLIGHT
TZOFFSETFROM:-0500
TZOFFSETTO:-0400
TZNAME:EDT
DTSTART:20190310T070000
END:DAYLIGHT
BEGIN:STANDARD
TZOFFSETFROM:-0400
TZOFFSETTO:-0500
TZNAME:EST
DTSTART:20191103T060000
END:STANDARD
END:VTIMEZONE
BEGIN:VEVENT
DTSTART;TZID=America/New_York:20191218T093000
DTEND;TZID=America/New_York:20191218T120000
DTSTAMP:20260423T024557
CREATED:20191218T205825Z
LAST-MODIFIED:20191218T205825Z
UID:2094650-1576661400-1576670400@ocmannproperties.com
SUMMARY:Crashed Glass Mosaic Tile Class
DESCRIPTION:In this two part class\, students will first make mono prints using acrylic paint on a printing plate using a variety of print techniques and using different kinds of paper. The prints will then be glued to a surface that will become the base for a mosaic. We will learn how to use “crash glass” to enhance the mosaic collage on top of the print.\n \nCost:\n$65.00 for Members\n$81.00 for Non-Members\nPlus $15.00 Material Fee to be paid directly to the instructor
URL:https://ocmannproperties.com/event/crashed-glass-mosaic-tile-class-2/
END:VEVENT
END:VCALENDAR