BEGIN:VCALENDAR
VERSION:2.0
PRODID:-//Ocean City MD Property Management - ECPv5.12.3//NONSGML v1.0//EN
CALSCALE:GREGORIAN
METHOD:PUBLISH
X-WR-CALNAME:Ocean City MD Property Management
X-ORIGINAL-URL:https://ocmannproperties.com
X-WR-CALDESC:Events for Ocean City MD Property Management
BEGIN:VTIMEZONE
TZID:America/New_York
BEGIN:DAYLIGHT
TZOFFSETFROM:-0500
TZOFFSETTO:-0400
TZNAME:EDT
DTSTART:20200308T070000
END:DAYLIGHT
BEGIN:STANDARD
TZOFFSETFROM:-0400
TZOFFSETTO:-0500
TZNAME:EST
DTSTART:20201101T060000
END:STANDARD
END:VTIMEZONE
BEGIN:VEVENT
DTSTART;TZID=America/New_York:20200501T130000
DTEND;TZID=America/New_York:20200501T134500
DTSTAMP:20260422T181354
CREATED:20200501T210203Z
LAST-MODIFIED:20200501T210203Z
UID:2094941-1588338000-1588340700@ocmannproperties.com
SUMMARY:Creative Art for Kids - Tin Foil Sculptures
DESCRIPTION:This is a free event funded partly by the Community Foundation of the Eastern Shore.  The event is an online class taught with the zoom app\, spaces are limited to 15 students. \n \nPlease register by 4/30/2020\n \nCome and join Lindsey to this tin foil sculptures adventure!\n \nClass is for children 6 and up.
URL:https://ocmannproperties.com/event/creative-art-for-kids-tin-foil-sculptures-2/
END:VEVENT
END:VCALENDAR