BEGIN:VCALENDAR
VERSION:2.0
PRODID:-//Ocean City MD Property Management - ECPv5.12.3//NONSGML v1.0//EN
CALSCALE:GREGORIAN
METHOD:PUBLISH
X-WR-CALNAME:Ocean City MD Property Management
X-ORIGINAL-URL:https://ocmannproperties.com
X-WR-CALDESC:Events for Ocean City MD Property Management
BEGIN:VTIMEZONE
TZID:America/New_York
BEGIN:DAYLIGHT
TZOFFSETFROM:-0500
TZOFFSETTO:-0400
TZNAME:EDT
DTSTART:20230312T070000
END:DAYLIGHT
BEGIN:STANDARD
TZOFFSETFROM:-0400
TZOFFSETTO:-0500
TZNAME:EST
DTSTART:20231105T060000
END:STANDARD
END:VTIMEZONE
BEGIN:VEVENT
DTSTART;VALUE=DATE:20230111
DTEND;VALUE=DATE:20230112
DTSTAMP:20260419T161715
CREATED:20230111T090825Z
LAST-MODIFIED:20230111T090825Z
UID:2097747-1673395200-1673481599@ocmannproperties.com
SUMMARY:Creative Kids Corner
DESCRIPTION:Children age 4 and older are invited to the Ocean City Library every Wednesday to create a winter craft at the Library or take it with you if you’re on the go! Most supplies are included.
URL:https://ocmannproperties.com/event/creative-kids-corner-11/
END:VEVENT
END:VCALENDAR