BEGIN:VCALENDAR
VERSION:2.0
PRODID:-//Ocean City MD Property Management - ECPv5.12.3//NONSGML v1.0//EN
CALSCALE:GREGORIAN
METHOD:PUBLISH
X-WR-CALNAME:Ocean City MD Property Management
X-ORIGINAL-URL:https://ocmannproperties.com
X-WR-CALDESC:Events for Ocean City MD Property Management
BEGIN:VTIMEZONE
TZID:America/New_York
BEGIN:DAYLIGHT
TZOFFSETFROM:-0500
TZOFFSETTO:-0400
TZNAME:EDT
DTSTART:20170312T070000
END:DAYLIGHT
BEGIN:STANDARD
TZOFFSETFROM:-0400
TZOFFSETTO:-0500
TZNAME:EST
DTSTART:20171105T060000
END:STANDARD
END:VTIMEZONE
BEGIN:VEVENT
DTSTART;TZID=America/New_York:20170924T070000
DTEND;TZID=America/New_York:20170924T120000
DTSTAMP:20260425T064813
CREATED:20170924T205923Z
LAST-MODIFIED:20170924T205923Z
UID:2089347-1506236400-1506254400@ocmannproperties.com
SUMMARY:Customer Appreciation Day
DESCRIPTION:It’s Customer Appreciation Day at Dandy Don’s! \n\nWe want to say thank you to all of our loyal customers and to our first timers by offering $5.00 off any Surrey or Peddle Car rental and $2.00 off any other bike rental. \n\nCome on out before enjoying your last day at Sunfest while you’re in town\, we look forward to seeing everyone. \n\nDon’t forget all bikes must be off the boardwalk by 12pm on Sunfest Weekend
URL:https://ocmannproperties.com/event/customer-appreciation-day-2/
END:VEVENT
END:VCALENDAR