BEGIN:VCALENDAR
VERSION:2.0
PRODID:-//Ocean City MD Property Management - ECPv5.12.3//NONSGML v1.0//EN
CALSCALE:GREGORIAN
METHOD:PUBLISH
X-WR-CALNAME:Ocean City MD Property Management
X-ORIGINAL-URL:https://ocmannproperties.com
X-WR-CALDESC:Events for Ocean City MD Property Management
BEGIN:VTIMEZONE
TZID:America/New_York
BEGIN:DAYLIGHT
TZOFFSETFROM:-0500
TZOFFSETTO:-0400
TZNAME:EDT
DTSTART:20170312T070000
END:DAYLIGHT
BEGIN:STANDARD
TZOFFSETFROM:-0400
TZOFFSETTO:-0500
TZNAME:EST
DTSTART:20171105T060000
END:STANDARD
END:VTIMEZONE
BEGIN:VEVENT
DTSTART;TZID=America/New_York:20170121T220000
DTEND;TZID=America/New_York:20170121T220000
DTSTAMP:20260425T212723
CREATED:20170121T211458Z
LAST-MODIFIED:20170121T211458Z
UID:2088684-1485036000-1485036000@ocmannproperties.com
SUMMARY:Dancing with DJ Wood at Greene Turtle North
DESCRIPTION:DJ Wood provides the music to get you moving at The Original Greene Turtle!
URL:https://ocmannproperties.com/event/dancing-with-dj-wood-at-greene-turtle-north-2/
END:VEVENT
END:VCALENDAR