BEGIN:VCALENDAR
VERSION:2.0
PRODID:-//Ocean City MD Property Management - ECPv5.12.3//NONSGML v1.0//EN
CALSCALE:GREGORIAN
METHOD:PUBLISH
X-WR-CALNAME:Ocean City MD Property Management
X-ORIGINAL-URL:https://ocmannproperties.com
X-WR-CALDESC:Events for Ocean City MD Property Management
BEGIN:VTIMEZONE
TZID:America/New_York
BEGIN:DAYLIGHT
TZOFFSETFROM:-0500
TZOFFSETTO:-0400
TZNAME:EDT
DTSTART:20200308T070000
END:DAYLIGHT
BEGIN:STANDARD
TZOFFSETFROM:-0400
TZOFFSETTO:-0500
TZNAME:EST
DTSTART:20201101T060000
END:STANDARD
END:VTIMEZONE
BEGIN:VEVENT
DTSTART;TZID=America/New_York:20200907T000000
DTEND;TZID=America/New_York:20200907T000000
DTSTAMP:20260422T182939
CREATED:20200907T090222Z
LAST-MODIFIED:20200907T090222Z
UID:2095202-1599436800-1599436800@ocmannproperties.com
SUMMARY:Dave Hawkins Band
DESCRIPTION:Dave Hawkins\, an accomplished musician\, has been playing music for what seems to be his entire life. Music is his passion and he is passionate about how it’s perceived throughout his audience. He plays many guitars\, harmonica\, and fiddle and when you hear him you will think there is a whole band\, not just one person. This is accomplished by what is known as looping.  There is never a “backing track” to play along with\, which is used by some other players out there. His vocals and music will reach the deepest part of you while it sets your senses alive. He plays sounds from the current popular\, to classic rock\, to Dave Matthews\, to his own original compositions as he touches on just about any genre you may desire.
URL:https://ocmannproperties.com/event/dave-hawkins-band/
END:VEVENT
END:VCALENDAR