BEGIN:VCALENDAR
VERSION:2.0
PRODID:-//Ocean City MD Property Management - ECPv5.12.3//NONSGML v1.0//EN
CALSCALE:GREGORIAN
METHOD:PUBLISH
X-WR-CALNAME:Ocean City MD Property Management
X-ORIGINAL-URL:https://ocmannproperties.com
X-WR-CALDESC:Events for Ocean City MD Property Management
BEGIN:VTIMEZONE
TZID:America/New_York
BEGIN:DAYLIGHT
TZOFFSETFROM:-0500
TZOFFSETTO:-0400
TZNAME:EDT
DTSTART:20180311T070000
END:DAYLIGHT
BEGIN:STANDARD
TZOFFSETFROM:-0400
TZOFFSETTO:-0500
TZNAME:EST
DTSTART:20181104T060000
END:STANDARD
END:VTIMEZONE
BEGIN:VEVENT
DTSTART;TZID=America/New_York:20180915T000000
DTEND;TZID=America/New_York:20180915T000000
DTSTAMP:20260424T083206
CREATED:20180915T210214Z
LAST-MODIFIED:20180915T210214Z
UID:2093713-1536969600-1536969600@ocmannproperties.com
SUMMARY:DeadEye Stare Band
DESCRIPTION:DeadEye Stare’ the band consists of five area “seasoned” musicians\, each bringing their own unique styles\, personalities\, and talents together to provide you with great entertainment and have a good time while doing it!
URL:https://ocmannproperties.com/event/deadeye-stare-band-2/
END:VEVENT
END:VCALENDAR