BEGIN:VCALENDAR
VERSION:2.0
PRODID:-//Ocean City MD Property Management - ECPv5.12.3//NONSGML v1.0//EN
CALSCALE:GREGORIAN
METHOD:PUBLISH
X-WR-CALNAME:Ocean City MD Property Management
X-ORIGINAL-URL:https://ocmannproperties.com
X-WR-CALDESC:Events for Ocean City MD Property Management
BEGIN:VTIMEZONE
TZID:America/New_York
BEGIN:DAYLIGHT
TZOFFSETFROM:-0500
TZOFFSETTO:-0400
TZNAME:EDT
DTSTART:20190310T070000
END:DAYLIGHT
BEGIN:STANDARD
TZOFFSETFROM:-0400
TZOFFSETTO:-0500
TZNAME:EST
DTSTART:20191103T060000
END:STANDARD
END:VTIMEZONE
BEGIN:VEVENT
DTSTART;VALUE=DATE:20191012
DTEND;VALUE=DATE:20191013
DTSTAMP:20260423T063150
CREATED:20191012T205946Z
LAST-MODIFIED:20191012T205946Z
UID:2094512-1570838400-1570924799@ocmannproperties.com
SUMMARY:Delmarva ESA Surf Contest
DESCRIPTION:Check out the Delmarva ESA Surf Competition! This is the largest amateur surfing association in the world featuring family oriented programs to promote a healthy and active lifestyle. The Delmarva ESA encourages participation by surfers of all ages and all skill levels.
URL:https://ocmannproperties.com/event/delmarva-esa-surf-contest-2/
END:VEVENT
END:VCALENDAR