BEGIN:VCALENDAR
VERSION:2.0
PRODID:-//Ocean City MD Property Management - ECPv5.12.3//NONSGML v1.0//EN
CALSCALE:GREGORIAN
METHOD:PUBLISH
X-WR-CALNAME:Ocean City MD Property Management
X-ORIGINAL-URL:https://ocmannproperties.com
X-WR-CALDESC:Events for Ocean City MD Property Management
BEGIN:VTIMEZONE
TZID:America/New_York
BEGIN:DAYLIGHT
TZOFFSETFROM:-0500
TZOFFSETTO:-0400
TZNAME:EDT
DTSTART:20180311T070000
END:DAYLIGHT
BEGIN:STANDARD
TZOFFSETFROM:-0400
TZOFFSETTO:-0500
TZNAME:EST
DTSTART:20181104T060000
END:STANDARD
END:VTIMEZONE
BEGIN:VEVENT
DTSTART;TZID=America/New_York:20180318T100000
DTEND;TZID=America/New_York:20180318T113000
DTSTAMP:20260424T191859
CREATED:20180318T085821Z
LAST-MODIFIED:20180318T085821Z
UID:2089697-1521367200-1521372600@ocmannproperties.com
SUMMARY:Develop Your Drawing Class For Teens with David Simpson
DESCRIPTION:Want to learn how to draw? Come to our Drawing class taught by studio artist David Simpson. You will learn simple and creative tips and tricks to improve and enhance your drawings. Please bring your own material.\n\n \n$20 for members/ $25 for non-members per class\n \n 
URL:https://ocmannproperties.com/event/develop-your-drawing-class-for-teens-with-david-simpson/
END:VEVENT
END:VCALENDAR