BEGIN:VCALENDAR
VERSION:2.0
PRODID:-//Ocean City MD Property Management - ECPv5.12.3//NONSGML v1.0//EN
CALSCALE:GREGORIAN
METHOD:PUBLISH
X-WR-CALNAME:Ocean City MD Property Management
X-ORIGINAL-URL:https://ocmannproperties.com
X-WR-CALDESC:Events for Ocean City MD Property Management
BEGIN:VTIMEZONE
TZID:America/New_York
BEGIN:DAYLIGHT
TZOFFSETFROM:-0500
TZOFFSETTO:-0400
TZNAME:EDT
DTSTART:20190310T070000
END:DAYLIGHT
BEGIN:STANDARD
TZOFFSETFROM:-0400
TZOFFSETTO:-0500
TZNAME:EST
DTSTART:20191103T060000
END:STANDARD
END:VTIMEZONE
BEGIN:VEVENT
DTSTART;TZID=America/New_York:20190927T000000
DTEND;TZID=America/New_York:20190927T000000
DTSTAMP:20260423T075240
CREATED:20190927T205844Z
LAST-MODIFIED:20190927T205844Z
UID:2094481-1569542400-1569542400@ocmannproperties.com
SUMMARY:DJ Adam Dutch
DESCRIPTION:DJ Adam Dutch has been DJing since 2006.  He has performed from New York City to Virginia\, and everywhere in between.  DJ Adam Dutch plays open format\, remixed top 40’s\, mainstream house\, old skool\, latin\, reggae\, party classics and chill house.
URL:https://ocmannproperties.com/event/dj-adam-dutch-18/
END:VEVENT
END:VCALENDAR