BEGIN:VCALENDAR
VERSION:2.0
PRODID:-//Ocean City MD Property Management - ECPv5.12.3//NONSGML v1.0//EN
CALSCALE:GREGORIAN
METHOD:PUBLISH
X-WR-CALNAME:Ocean City MD Property Management
X-ORIGINAL-URL:https://ocmannproperties.com
X-WR-CALDESC:Events for Ocean City MD Property Management
BEGIN:VTIMEZONE
TZID:America/New_York
BEGIN:DAYLIGHT
TZOFFSETFROM:-0500
TZOFFSETTO:-0400
TZNAME:EDT
DTSTART:20210314T070000
END:DAYLIGHT
BEGIN:STANDARD
TZOFFSETFROM:-0400
TZOFFSETTO:-0500
TZNAME:EST
DTSTART:20211107T060000
END:STANDARD
END:VTIMEZONE
BEGIN:VEVENT
DTSTART;TZID=America/New_York:20210613T140000
DTEND;TZID=America/New_York:20210613T180000
DTSTAMP:20260423T105958
CREATED:20210613T210119Z
LAST-MODIFIED:20210613T210119Z
UID:2096542-1623592800-1623607200@ocmannproperties.com
SUMMARY:DJ Rut
DESCRIPTION:DJ Rut does not miss a beat… party with him at the Purple Moose Saloon on the Boardwalk in your favorite beach town!   DJ Rut throws down hot blends and cuts up like no one else.  For this DJ\, no genre is off limits so don’t be shy with your requests! 
URL:https://ocmannproperties.com/event/dj-rut-2/
END:VEVENT
END:VCALENDAR