BEGIN:VCALENDAR
VERSION:2.0
PRODID:-//Ocean City MD Property Management - ECPv5.12.3//NONSGML v1.0//EN
CALSCALE:GREGORIAN
METHOD:PUBLISH
X-WR-CALNAME:Ocean City MD Property Management
X-ORIGINAL-URL:https://ocmannproperties.com
X-WR-CALDESC:Events for Ocean City MD Property Management
BEGIN:VTIMEZONE
TZID:America/New_York
BEGIN:DAYLIGHT
TZOFFSETFROM:-0500
TZOFFSETTO:-0400
TZNAME:EDT
DTSTART:20210314T070000
END:DAYLIGHT
BEGIN:STANDARD
TZOFFSETFROM:-0400
TZOFFSETTO:-0500
TZNAME:EST
DTSTART:20211107T060000
END:STANDARD
END:VTIMEZONE
BEGIN:VEVENT
DTSTART;VALUE=DATE:20210305
DTEND;VALUE=DATE:20210306
DTSTAMP:20260423T051307
CREATED:20210305T090255Z
LAST-MODIFIED:20210305T090255Z
UID:2096333-1614902400-1614988799@ocmannproperties.com
SUMMARY:Dublin Your Free Play
DESCRIPTION:Club Ocean members Ocean Downs Casino is Dublin Your Free Play!\nMembers can swipe at the kiosk to spin the wheel and see if they are DUBLIN THEIR FREE PLAY OFFERS!  \nNo points needed.  One swipe per person.
URL:https://ocmannproperties.com/event/dublin-your-free-play-2/
END:VEVENT
END:VCALENDAR