BEGIN:VCALENDAR
VERSION:2.0
PRODID:-//Ocean City MD Property Management - ECPv5.12.3//NONSGML v1.0//EN
CALSCALE:GREGORIAN
METHOD:PUBLISH
X-WR-CALNAME:Ocean City MD Property Management
X-ORIGINAL-URL:https://ocmannproperties.com
X-WR-CALDESC:Events for Ocean City MD Property Management
BEGIN:VTIMEZONE
TZID:America/New_York
BEGIN:DAYLIGHT
TZOFFSETFROM:-0500
TZOFFSETTO:-0400
TZNAME:EDT
DTSTART:20230312T070000
END:DAYLIGHT
BEGIN:STANDARD
TZOFFSETFROM:-0400
TZOFFSETTO:-0500
TZNAME:EST
DTSTART:20231105T060000
END:STANDARD
END:VTIMEZONE
BEGIN:VEVENT
DTSTART;TZID=America/New_York:20230407T100000
DTEND;TZID=America/New_York:20230407T170000
DTSTAMP:20260424T030208
CREATED:20230407T212308Z
LAST-MODIFIED:20230407T212308Z
UID:2097925-1680861600-1680886800@ocmannproperties.com
SUMMARY:Easter Art and Craft Fair and Kids' Fun Fair
DESCRIPTION:Art & Craft Show:\nExhibitors displaying unique handcrafted items\nincluding wearable art\, jewelry\, lawn & garden décor\, toys\, florals\,\n fine art\, caricatures\, and more. \nEaster Kids’ Fun Fair:\nContinuous\n activities\, games\, contests\, and entertainment\, including Beanny the\nEaster Bunny\, Easter Egg Hunts\, magic\, juggling shows by Cascading Carlos\, puppet shows\, and more. \n \n\n\nAdmission \n$5.00 Adults \n$4.00 Seniors (60+) \n$4.00 Students (4-18) \n$2.00 Military\, Police\, Fire (with ID) \nFREE for Children 3 and Under 
URL:https://ocmannproperties.com/event/easter-art-and-craft-fair-and-kids-fun-fair-11/
END:VEVENT
END:VCALENDAR