BEGIN:VCALENDAR
VERSION:2.0
PRODID:-//Ocean City MD Property Management - ECPv5.12.3//NONSGML v1.0//EN
CALSCALE:GREGORIAN
METHOD:PUBLISH
X-WR-CALNAME:Ocean City MD Property Management
X-ORIGINAL-URL:https://ocmannproperties.com
X-WR-CALDESC:Events for Ocean City MD Property Management
BEGIN:VTIMEZONE
TZID:America/New_York
BEGIN:DAYLIGHT
TZOFFSETFROM:-0500
TZOFFSETTO:-0400
TZNAME:EDT
DTSTART:20170312T070000
END:DAYLIGHT
BEGIN:STANDARD
TZOFFSETFROM:-0400
TZOFFSETTO:-0500
TZNAME:EST
DTSTART:20171105T060000
END:STANDARD
END:VTIMEZONE
BEGIN:VEVENT
DTSTART;TZID=America/New_York:20170414T000000
DTEND;TZID=America/New_York:20170414T000000
DTSTAMP:20260425T140837
CREATED:20170414T090139Z
LAST-MODIFIED:20170414T090139Z
UID:2088997-1492128000-1492128000@ocmannproperties.com
SUMMARY:Easter Art and Craft Fair and Kids' Fun Fair
DESCRIPTION:Art & Craft Show:\nExhibitors displaying unique handcrafted items\nincluding wearable art\, jewelry\, lawn & garden decor\, toys\, florals\,\n fine art\, caricatures\, and more. \nEaster Kids’ Fun Fair:\nContinuous\n activities\, games\, contests\, and entertainment\, including Beany the\nEaster Bunny\, Easter egg hunts\, magic\, juggling\, puppet shows\, and more.
URL:https://ocmannproperties.com/event/easter-art-and-craft-fair-and-kids-fun-fair/
END:VEVENT
END:VCALENDAR