BEGIN:VCALENDAR
VERSION:2.0
PRODID:-//Ocean City MD Property Management - ECPv5.12.3//NONSGML v1.0//EN
CALSCALE:GREGORIAN
METHOD:PUBLISH
X-WR-CALNAME:Ocean City MD Property Management
X-ORIGINAL-URL:https://ocmannproperties.com
X-WR-CALDESC:Events for Ocean City MD Property Management
BEGIN:VTIMEZONE
TZID:America/New_York
BEGIN:DAYLIGHT
TZOFFSETFROM:-0500
TZOFFSETTO:-0400
TZNAME:EDT
DTSTART:20180311T070000
END:DAYLIGHT
BEGIN:STANDARD
TZOFFSETFROM:-0400
TZOFFSETTO:-0500
TZNAME:EST
DTSTART:20181104T060000
END:STANDARD
END:VTIMEZONE
BEGIN:VEVENT
DTSTART;TZID=America/New_York:20180310T000000
DTEND;TZID=America/New_York:20180310T000000
DTSTAMP:20260424T172232
CREATED:20180310T085827Z
LAST-MODIFIED:20180310T085827Z
UID:2089682-1520640000-1520640000@ocmannproperties.com
SUMMARY:Eastern Electric
DESCRIPTION:The band\, “the Electric Co.” was founded by songwriter Nate Clendenen\, drummer/percussionist Sonny Martin\, and bassist/songwriter John Sybert on Maryland’s Eastern Shore. They played\, traveled\, wrote\, recorded\, and spent more blood\, sweat\, and tears than ever before. After hundreds of shows\, thousands of miles traveled\, multiple recording sessions\, one dynamite debut album\, and three lead guitar players\, Nate and Sonny have moved on to form the fifth generation of their band\, now called “Eastern Electric”. Rounding out a cast of regional all stars is expert tasty music man\, Kyle Coffey on keys\, premier jazz/funk/rock MVP Charlie Greenhalgh on bass\, and pedal steel twanger\, Mr. Joe Esham. With the band’s best and most solid lineup yet\, Eastern Electric has been gaining serious momentum.
URL:https://ocmannproperties.com/event/eastern-electric/
END:VEVENT
END:VCALENDAR