BEGIN:VCALENDAR
VERSION:2.0
PRODID:-//Ocean City MD Property Management - ECPv5.12.3//NONSGML v1.0//EN
CALSCALE:GREGORIAN
METHOD:PUBLISH
X-WR-CALNAME:Ocean City MD Property Management
X-ORIGINAL-URL:https://ocmannproperties.com
X-WR-CALDESC:Events for Ocean City MD Property Management
BEGIN:VTIMEZONE
TZID:America/New_York
BEGIN:DAYLIGHT
TZOFFSETFROM:-0500
TZOFFSETTO:-0400
TZNAME:EDT
DTSTART:20200308T070000
END:DAYLIGHT
BEGIN:STANDARD
TZOFFSETFROM:-0400
TZOFFSETTO:-0500
TZNAME:EST
DTSTART:20201101T060000
END:STANDARD
END:VTIMEZONE
BEGIN:VEVENT
DTSTART;VALUE=DATE:20201008
DTEND;VALUE=DATE:20201009
DTSTAMP:20260422T202300
CREATED:20201008T210149Z
LAST-MODIFIED:20201008T210149Z
UID:2095266-1602115200-1602201599@ocmannproperties.com
SUMMARY:Endless Summer Cruisin'
DESCRIPTION:Locations:\n– Inlet Parking Lot (809 South Atlantic Ave)\n– Convention Center (4001 Coastal Highway) *Convention Center show hours are  Thursday\, Friday\, Saturday and Sunday. \n \nCruise on down to Ocean City Maryland for the Annual Endless Summer Cruisin.  With over 2\,000 Rods\, Customs\, Classics and Trick Trucks cruisin the streets.\n \nThis is an event you won’t want to miss!\n \nSo many things to see and do\, so make sure you cruise down to Ocean City MD for the Annual Endless Summer Cruisin!\n\nGeneral One Day Admission:\n$10 a day Thursday and Sunday\n$15 a day Saturday and Saturday\nChildren under 14 are free with an adult\n(Tickets are good at all locations)\n \n 
URL:https://ocmannproperties.com/event/endless-summer-cruisin-8/
END:VEVENT
END:VCALENDAR