BEGIN:VCALENDAR
VERSION:2.0
PRODID:-//Ocean City MD Property Management - ECPv5.12.3//NONSGML v1.0//EN
CALSCALE:GREGORIAN
METHOD:PUBLISH
X-WR-CALNAME:Ocean City MD Property Management
X-ORIGINAL-URL:https://ocmannproperties.com
X-WR-CALDESC:Events for Ocean City MD Property Management
BEGIN:VTIMEZONE
TZID:America/New_York
BEGIN:DAYLIGHT
TZOFFSETFROM:-0500
TZOFFSETTO:-0400
TZNAME:EDT
DTSTART:20170312T070000
END:DAYLIGHT
BEGIN:STANDARD
TZOFFSETFROM:-0400
TZOFFSETTO:-0500
TZNAME:EST
DTSTART:20171105T060000
END:STANDARD
END:VTIMEZONE
BEGIN:VEVENT
DTSTART;TZID=America/New_York:20170321T174500
DTEND;TZID=America/New_York:20170321T184500
DTSTAMP:20260425T160531
CREATED:20170321T090256Z
LAST-MODIFIED:20170321T090256Z
UID:2088937-1490118300-1490121900@ocmannproperties.com
SUMMARY:Evening Yoga Class
DESCRIPTION:This class is an excellent way to keep your mind and body healthy and strong.  Improve your strength\, flexibility and balance while releasing stress.  Gently stretch your body while connecting breath with movement. \n \nDrop in fee is $8\n \nMats are provided as well as other equipment. Wear comfortable clothes for freedom of movement.\n \n 
URL:https://ocmannproperties.com/event/evening-yoga-class-3/
END:VEVENT
END:VCALENDAR