BEGIN:VCALENDAR
VERSION:2.0
PRODID:-//Ocean City MD Property Management - ECPv5.12.3//NONSGML v1.0//EN
CALSCALE:GREGORIAN
METHOD:PUBLISH
X-WR-CALNAME:Ocean City MD Property Management
X-ORIGINAL-URL:https://ocmannproperties.com
X-WR-CALDESC:Events for Ocean City MD Property Management
BEGIN:VTIMEZONE
TZID:America/New_York
BEGIN:DAYLIGHT
TZOFFSETFROM:-0500
TZOFFSETTO:-0400
TZNAME:EDT
DTSTART:20170312T070000
END:DAYLIGHT
BEGIN:STANDARD
TZOFFSETFROM:-0400
TZOFFSETTO:-0500
TZNAME:EST
DTSTART:20171105T060000
END:STANDARD
END:VTIMEZONE
BEGIN:VEVENT
DTSTART;TZID=America/New_York:20170122T110000
DTEND;TZID=America/New_York:20170122T140000
DTSTAMP:20260425T194708
CREATED:20170122T205953Z
LAST-MODIFIED:20170122T205953Z
UID:2088686-1485082800-1485093600@ocmannproperties.com
SUMMARY:Everett Spells at Fager's Island
DESCRIPTION:Everett A. Spells is a multi-instrumental Jazz Saxophone Player. Growing up in Newport News\, Virginia\, Everett has performed with such greats as Frank Foster\, Dr. Billy Taylor\, Dr. Burgess Gardner\, Consuella Moorehead\, Bill Lee\, Steve Wilson\, Billy Drummond\, Gary Harris\, and the Wooten Brothers.\n 
URL:https://ocmannproperties.com/event/everett-spells-at-fagers-island-2/
END:VEVENT
END:VCALENDAR